BEGIN:VCALENDAR
VERSION:2.0
PRODID:-//Alcoholics Anonymous on O&#039;ahu - ECPv6.15.20//NONSGML v1.0//EN
CALSCALE:GREGORIAN
METHOD:PUBLISH
X-ORIGINAL-URL:https://www.oahuaa.org
X-WR-CALDESC:Events for Alcoholics Anonymous on O&#039;ahu
REFRESH-INTERVAL;VALUE=DURATION:PT1H
X-Robots-Tag:noindex
X-PUBLISHED-TTL:PT1H
BEGIN:VTIMEZONE
TZID:Pacific/Honolulu
BEGIN:STANDARD
TZOFFSETFROM:-1000
TZOFFSETTO:-1000
TZNAME:HST
DTSTART:20240101T000000
END:STANDARD
END:VTIMEZONE
BEGIN:VEVENT
DTSTART;TZID=Pacific/Honolulu:20251211T183000
DTEND;TZID=Pacific/Honolulu:20251211T193000
DTSTAMP:20260425T054959
CREATED:20251210T224021Z
LAST-MODIFIED:20251210T224021Z
UID:10002088-1765477800-1765481400@www.oahuaa.org
SUMMARY:District 2 Business Meeting
DESCRIPTION:
URL:https://www.oahuaa.org/event-calendar/district-2-business-meeting/
LOCATION:Zoom
ATTACH;FMTTYPE=image/jpeg:https://www.oahuaa.org/wp-content/uploads/D2-Monthly-Meeting-Flyer-Resized.jpg
ORGANIZER;CN="Honolulu District #2":MAILTO:manager@oahucentraloffice.com
END:VEVENT
END:VCALENDAR