BEGIN:VCALENDAR
VERSION:2.0
PRODID:-//Alcoholics Anonymous on O&#039;ahu - ECPv6.15.20//NONSGML v1.0//EN
CALSCALE:GREGORIAN
METHOD:PUBLISH
X-WR-CALNAME:Alcoholics Anonymous on O&#039;ahu
X-ORIGINAL-URL:https://www.oahuaa.org
X-WR-CALDESC:Events for Alcoholics Anonymous on O&#039;ahu
REFRESH-INTERVAL;VALUE=DURATION:PT1H
X-Robots-Tag:noindex
X-PUBLISHED-TTL:PT1H
BEGIN:VTIMEZONE
TZID:Pacific/Honolulu
BEGIN:STANDARD
TZOFFSETFROM:-1000
TZOFFSETTO:-1000
TZNAME:HST
DTSTART:20240101T000000
END:STANDARD
END:VTIMEZONE
BEGIN:VEVENT
DTSTART;TZID=Pacific/Honolulu:20251231T140000
DTEND;TZID=Pacific/Honolulu:20260101T140000
DTSTAMP:20260425T054753
CREATED:20251126T213647Z
LAST-MODIFIED:20251126T213647Z
UID:10002085-1767189600-1767276000@www.oahuaa.org
SUMMARY:District 2 New Year's Alcathon
DESCRIPTION:
URL:https://www.oahuaa.org/event-calendar/district-2-new-years-alcathon/
LOCATION:Princess Ruth Ke`elikolani Middle School
ATTACH;FMTTYPE=image/jpeg:https://www.oahuaa.org/wp-content/uploads/NY-2025-Thankathon-flyer.jpg
END:VEVENT
BEGIN:VEVENT
DTSTART;TZID=Pacific/Honolulu:20251231T190000
DTEND;TZID=Pacific/Honolulu:20260101T190000
DTSTAMP:20260425T054753
CREATED:20251223T203233Z
LAST-MODIFIED:20251223T203233Z
UID:10002092-1767207600-1767294000@www.oahuaa.org
SUMMARY:District 4 New Year's Alkathon
DESCRIPTION:
URL:https://www.oahuaa.org/event-calendar/district-4-new-years-alkathon/
LOCATION:St. Christopher’s Episcopal Church\, 93 North Kainalu \, City: \, State: Hawaii\, Zip Code: \,\, Kailua\, HI\, 96734\, United States
ATTACH;FMTTYPE=image/jpeg:https://www.oahuaa.org/wp-content/uploads/District4NewYearsAlkathonFlyer.jpg
END:VEVENT
BEGIN:VEVENT
DTSTART;TZID=Pacific/Honolulu:20260101T000000
DTEND;TZID=Pacific/Honolulu:20260101T235959
DTSTAMP:20260425T054753
CREATED:20231005T221332Z
LAST-MODIFIED:20241227T072320Z
UID:10001897-1767225600-1767311999@www.oahuaa.org
SUMMARY:New Year's Day (Central Office Closed)
DESCRIPTION:
URL:https://www.oahuaa.org/event-calendar/new-years-day-central-office-closed-2/2026-01-01/
LOCATION:HI
ATTACH;FMTTYPE=image/jpeg:https://www.oahuaa.org/wp-content/uploads/stainedglass-joed.jpg
END:VEVENT
END:VCALENDAR