BEGIN:VCALENDAR
VERSION:2.0
PRODID:-//Alcoholics Anonymous on O&#039;ahu - ECPv6.15.20//NONSGML v1.0//EN
CALSCALE:GREGORIAN
METHOD:PUBLISH
X-ORIGINAL-URL:https://www.oahuaa.org
X-WR-CALDESC:Events for Alcoholics Anonymous on O&#039;ahu
REFRESH-INTERVAL;VALUE=DURATION:PT1H
X-Robots-Tag:noindex
X-PUBLISHED-TTL:PT1H
BEGIN:VTIMEZONE
TZID:Pacific/Honolulu
BEGIN:STANDARD
TZOFFSETFROM:-1000
TZOFFSETTO:-1000
TZNAME:HST
DTSTART:20250101T000000
END:STANDARD
END:VTIMEZONE
BEGIN:VEVENT
DTSTART;TZID=Pacific/Honolulu:20260216T140000
DTEND;TZID=Pacific/Honolulu:20260216T160000
DTSTAMP:20260425T014228
CREATED:20260113T204729Z
LAST-MODIFIED:20260226T205203Z
UID:10002097-1771250400-1771257600@www.oahuaa.org
SUMMARY:Asians\, Transgender--call for stories
DESCRIPTION:
URL:https://www.oahuaa.org/event-calendar/asians-transgender-call-for-stories/2026-02-16/
LOCATION:Zoom
ATTACH;FMTTYPE=image/webp:https://www.oahuaa.org/wp-content/uploads/stories-trans.webp
END:VEVENT
END:VCALENDAR