BEGIN:VCALENDAR
VERSION:2.0
PRODID:-//Alcoholics Anonymous on O&#039;ahu - ECPv6.15.20//NONSGML v1.0//EN
CALSCALE:GREGORIAN
METHOD:PUBLISH
X-WR-CALNAME:Alcoholics Anonymous on O&#039;ahu
X-ORIGINAL-URL:https://www.oahuaa.org
X-WR-CALDESC:Events for Alcoholics Anonymous on O&#039;ahu
REFRESH-INTERVAL;VALUE=DURATION:PT1H
X-Robots-Tag:noindex
X-PUBLISHED-TTL:PT1H
BEGIN:VTIMEZONE
TZID:Pacific/Honolulu
BEGIN:STANDARD
TZOFFSETFROM:-1000
TZOFFSETTO:-1000
TZNAME:HST
DTSTART:20250101T000000
END:STANDARD
END:VTIMEZONE
BEGIN:VEVENT
DTSTART;TZID=Pacific/Honolulu:20260220T120000
DTEND;TZID=Pacific/Honolulu:20260222T120000
DTSTAMP:20260425T002656
CREATED:20251209T213934Z
LAST-MODIFIED:20251209T213934Z
UID:10002087-1771588800-1771761600@www.oahuaa.org
SUMMARY:33rd Annual Aloha Round Up
DESCRIPTION:
URL:https://www.oahuaa.org/event-calendar/33rd-annual-aloha-round-up/
LOCATION:Ala Wai Golf Course Clubhouse\, 404 Kapahulu Ave\, Honolulu\, HI\, 96815\, United States
ATTACH;FMTTYPE=image/jpeg:https://www.oahuaa.org/wp-content/uploads/Aloha-Roundup-Flyer2.jpeg
END:VEVENT
END:VCALENDAR