BEGIN:VCALENDAR
VERSION:2.0
PRODID:-//Alcoholics Anonymous on O&#039;ahu - ECPv6.15.20//NONSGML v1.0//EN
CALSCALE:GREGORIAN
METHOD:PUBLISH
X-WR-CALNAME:Alcoholics Anonymous on O&#039;ahu
X-ORIGINAL-URL:https://www.oahuaa.org
X-WR-CALDESC:Events for Alcoholics Anonymous on O&#039;ahu
REFRESH-INTERVAL;VALUE=DURATION:PT1H
X-Robots-Tag:noindex
X-PUBLISHED-TTL:PT1H
BEGIN:VTIMEZONE
TZID:Pacific/Honolulu
BEGIN:STANDARD
TZOFFSETFROM:-1000
TZOFFSETTO:-1000
TZNAME:HST
DTSTART:20250101T000000
END:STANDARD
END:VTIMEZONE
BEGIN:VEVENT
DTSTART;TZID=Pacific/Honolulu:20260328T120000
DTEND;TZID=Pacific/Honolulu:20260328T130000
DTSTAMP:20260425T002650
CREATED:20251119T022207Z
LAST-MODIFIED:20251119T022210Z
UID:10002065-1774699200-1774702800@www.oahuaa.org
SUMMARY:North Shore Birthday Celebration Meeting
DESCRIPTION:
URL:https://www.oahuaa.org/event-calendar/north-shore-birthday-celebration-meeting-3/2026-03-28/
LOCATION:Haleiwa Beach Park\, 62-449 Kamehameha Hwy\, Haleiwa\, HI\, 96712\, United States
ATTACH;FMTTYPE=image/jpeg:https://www.oahuaa.org/wp-content/uploads/2024/06/north-shorebday-meeting-flyer.JPG.jpg
END:VEVENT
END:VCALENDAR