BEGIN:VCALENDAR
VERSION:2.0
PRODID:-//Alcoholics Anonymous on O&#039;ahu - ECPv6.15.20//NONSGML v1.0//EN
CALSCALE:GREGORIAN
METHOD:PUBLISH
X-WR-CALNAME:Alcoholics Anonymous on O&#039;ahu
X-ORIGINAL-URL:https://www.oahuaa.org
X-WR-CALDESC:Events for Alcoholics Anonymous on O&#039;ahu
REFRESH-INTERVAL;VALUE=DURATION:PT1H
X-Robots-Tag:noindex
X-PUBLISHED-TTL:PT1H
BEGIN:VTIMEZONE
TZID:Pacific/Honolulu
BEGIN:STANDARD
TZOFFSETFROM:-1000
TZOFFSETTO:-1000
TZNAME:HST
DTSTART:20250101T000000
END:STANDARD
END:VTIMEZONE
BEGIN:VEVENT
DTSTART;TZID=Pacific/Honolulu:20260408T063000
DTEND;TZID=Pacific/Honolulu:20260408T200000
DTSTAMP:20260423T080902
CREATED:20260407T010041Z
LAST-MODIFIED:20260407T010041Z
UID:10002108-1775629800-1775678400@www.oahuaa.org
SUMMARY:OIG Meeting Date Change
DESCRIPTION:
URL:https://www.oahuaa.org/event-calendar/oig-meeting-date-change/
LOCATION:Susannah Wesley Community Center\, 1117 Kaili St #3432\, Honolulu\, HI\, 96819\, United States
ATTACH;FMTTYPE=image/webp:https://www.oahuaa.org/wp-content/uploads/Screenshot-2026-04-06-145049.webp
END:VEVENT
END:VCALENDAR