BEGIN:VCALENDAR
VERSION:2.0
PRODID:-//Alcoholics Anonymous on O&#039;ahu - ECPv6.15.20//NONSGML v1.0//EN
CALSCALE:GREGORIAN
METHOD:PUBLISH
X-WR-CALNAME:Alcoholics Anonymous on O&#039;ahu
X-ORIGINAL-URL:https://www.oahuaa.org
X-WR-CALDESC:Events for Alcoholics Anonymous on O&#039;ahu
REFRESH-INTERVAL;VALUE=DURATION:PT1H
X-Robots-Tag:noindex
X-PUBLISHED-TTL:PT1H
BEGIN:VTIMEZONE
TZID:Pacific/Honolulu
BEGIN:STANDARD
TZOFFSETFROM:-1000
TZOFFSETTO:-1000
TZNAME:HST
DTSTART:20250101T000000
END:STANDARD
END:VTIMEZONE
BEGIN:VEVENT
DTSTART;TZID=Pacific/Honolulu:20260424T150000
DTEND;TZID=Pacific/Honolulu:20260426T120000
DTSTAMP:20260423T014222
CREATED:20260311T070753Z
LAST-MODIFIED:20260312T235629Z
UID:10002102-1777042800-1777204800@www.oahuaa.org
SUMMARY:73rd Semi-annual Men's Retreat
DESCRIPTION:
URL:https://www.oahuaa.org/event-calendar/73rd-semi-annual-mens-retreat/
LOCATION:St. Anthony’s Retreat House\, 3351 Kalihi Street\, Honolulu\, HI\, 96819\, United States
ATTACH;FMTTYPE=image/webp:https://www.oahuaa.org/wp-content/uploads/mens-retreat-flyer.webp
END:VEVENT
BEGIN:VEVENT
DTSTART;TZID=Pacific/Honolulu:20260425T120000
DTEND;TZID=Pacific/Honolulu:20260425T130000
DTSTAMP:20260423T014222
CREATED:20251119T022207Z
LAST-MODIFIED:20251119T022210Z
UID:10002066-1777118400-1777122000@www.oahuaa.org
SUMMARY:North Shore Birthday Celebration Meeting
DESCRIPTION:
URL:https://www.oahuaa.org/event-calendar/north-shore-birthday-celebration-meeting-3/2026-04-25/
LOCATION:Haleiwa Beach Park\, 62-449 Kamehameha Hwy\, Haleiwa\, HI\, 96712\, United States
ATTACH;FMTTYPE=image/jpeg:https://www.oahuaa.org/wp-content/uploads/2024/06/north-shorebday-meeting-flyer.JPG.jpg
END:VEVENT
BEGIN:VEVENT
DTSTART;TZID=Pacific/Honolulu:20260426T100000
DTEND;TZID=Pacific/Honolulu:20260426T123000
DTSTAMP:20260423T014222
CREATED:20260330T214138Z
LAST-MODIFIED:20260414T212541Z
UID:10002106-1777197600-1777206600@www.oahuaa.org
SUMMARY:Safety and Inclusion in A.A. Workshop
DESCRIPTION:
URL:https://www.oahuaa.org/event-calendar/safety-and-inclusion-in-a-a-workshop/
LOCATION:Zoom
ATTACH;FMTTYPE=image/webp:https://www.oahuaa.org/wp-content/uploads/0-e1776201829831.webp
END:VEVENT
BEGIN:VEVENT
DTSTART;TZID=Pacific/Honolulu:20260502T100000
DTEND;TZID=Pacific/Honolulu:20260502T140000
DTSTAMP:20260423T014222
CREATED:20260401T024425Z
LAST-MODIFIED:20260401T024425Z
UID:10002107-1777716000-1777730400@www.oahuaa.org
SUMMARY:Homegroup Health Workshop
DESCRIPTION:
URL:https://www.oahuaa.org/event-calendar/homegroup-health-workshop/
LOCATION:Zoom
ATTACH;FMTTYPE=image/webp:https://www.oahuaa.org/wp-content/uploads/573008B6-6472-4452-8555-D6BDF5669553-e1775011243460.webp
END:VEVENT
BEGIN:VEVENT
DTSTART;TZID=Pacific/Honolulu:20260510T100000
DTEND;TZID=Pacific/Honolulu:20260510T150000
DTSTAMP:20260423T014222
CREATED:20260312T231757Z
LAST-MODIFIED:20260312T231757Z
UID:10002103-1778407200-1778425200@www.oahuaa.org
SUMMARY:Ms. Daisy's Paniolo Princess Mother's Day Brunch
DESCRIPTION:
URL:https://www.oahuaa.org/event-calendar/ms-daisys-paniolo-princess-mothers-day-brunch/
LOCATION:Kealohi Banquet Halls at He’eiha State Park\, 46-465 Kamehameha Hwy.\, Kaneohe\, HI\, 96744\, United States
ATTACH;FMTTYPE=image/webp:https://www.oahuaa.org/wp-content/uploads/Ms-Daisys-Paniolo-Princess-Brunch.webp
END:VEVENT
BEGIN:VEVENT
DTSTART;TZID=Pacific/Honolulu:20260513T183000
DTEND;TZID=Pacific/Honolulu:20260513T200000
DTSTAMP:20260423T014222
CREATED:20230302T014314Z
LAST-MODIFIED:20260407T011312Z
UID:10001916-1778697000-1778702400@www.oahuaa.org
SUMMARY:Oahu Intergroup Business Meeting
DESCRIPTION:
URL:https://www.oahuaa.org/event-calendar/oahu-intergroup-business-meeting-2/2026-05-13/
LOCATION:Susannah Wesley Community Center\, 1117 Kaili St #3432\, Honolulu\, HI\, 96819\, United States
ATTACH;FMTTYPE=image/jpeg:https://www.oahuaa.org/wp-content/uploads/OIGBusinessMeeting.jpg
END:VEVENT
BEGIN:VEVENT
DTSTART;TZID=Pacific/Honolulu:20260517T120000
DTEND;TZID=Pacific/Honolulu:20260517T160000
DTSTAMP:20260423T014222
CREATED:20251115T012157Z
LAST-MODIFIED:20251115T012157Z
UID:10002060-1779019200-1779033600@www.oahuaa.org
SUMMARY:Puna Committee Workshop
DESCRIPTION:
URL:https://www.oahuaa.org/event-calendar/puna-committee-workshop/
LOCATION:Puna Hongwanji Mission\, 16-492 Old Volcano Road\, Keaau\, HI\, 96749\, United States
ATTACH;FMTTYPE=image/jpeg:https://www.oahuaa.org/wp-content/uploads/puna-workshop.jpg
END:VEVENT
BEGIN:VEVENT
DTSTART;TZID=Pacific/Honolulu:20260522T080000
DTEND;TZID=Pacific/Honolulu:20260524T170000
DTSTAMP:20260423T014222
CREATED:20260305T004328Z
LAST-MODIFIED:20260305T004328Z
UID:10002101-1779436800-1779642000@www.oahuaa.org
SUMMARY:27th Annual Westside RoundUp
DESCRIPTION:
URL:https://www.oahuaa.org/event-calendar/27th-annual-westside-roundup/
LOCATION:HI
ATTACH;FMTTYPE=image/webp:https://www.oahuaa.org/wp-content/uploads/Westside-RoundUp-flyer-e1772669542584.webp
END:VEVENT
BEGIN:VEVENT
DTSTART;TZID=Pacific/Honolulu:20260530T120000
DTEND;TZID=Pacific/Honolulu:20260530T130000
DTSTAMP:20260423T014222
CREATED:20251119T022207Z
LAST-MODIFIED:20251119T022210Z
UID:10002067-1780142400-1780146000@www.oahuaa.org
SUMMARY:North Shore Birthday Celebration Meeting
DESCRIPTION:
URL:https://www.oahuaa.org/event-calendar/north-shore-birthday-celebration-meeting-3/2026-05-30/
LOCATION:Haleiwa Beach Park\, 62-449 Kamehameha Hwy\, Haleiwa\, HI\, 96712\, United States
ATTACH;FMTTYPE=image/jpeg:https://www.oahuaa.org/wp-content/uploads/2024/06/north-shorebday-meeting-flyer.JPG.jpg
END:VEVENT
BEGIN:VEVENT
DTSTART;TZID=Pacific/Honolulu:20260610T183000
DTEND;TZID=Pacific/Honolulu:20260610T200000
DTSTAMP:20260423T014222
CREATED:20230302T014314Z
LAST-MODIFIED:20260407T011312Z
UID:10001917-1781116200-1781121600@www.oahuaa.org
SUMMARY:Oahu Intergroup Business Meeting
DESCRIPTION:
URL:https://www.oahuaa.org/event-calendar/oahu-intergroup-business-meeting-2/2026-06-10/
LOCATION:Susannah Wesley Community Center\, 1117 Kaili St #3432\, Honolulu\, HI\, 96819\, United States
ATTACH;FMTTYPE=image/jpeg:https://www.oahuaa.org/wp-content/uploads/OIGBusinessMeeting.jpg
END:VEVENT
BEGIN:VEVENT
DTSTART;TZID=Pacific/Honolulu:20260627T120000
DTEND;TZID=Pacific/Honolulu:20260627T130000
DTSTAMP:20260423T014222
CREATED:20251119T022207Z
LAST-MODIFIED:20251119T022210Z
UID:10002068-1782561600-1782565200@www.oahuaa.org
SUMMARY:North Shore Birthday Celebration Meeting
DESCRIPTION:
URL:https://www.oahuaa.org/event-calendar/north-shore-birthday-celebration-meeting-3/2026-06-27/
LOCATION:Haleiwa Beach Park\, 62-449 Kamehameha Hwy\, Haleiwa\, HI\, 96712\, United States
ATTACH;FMTTYPE=image/jpeg:https://www.oahuaa.org/wp-content/uploads/2024/06/north-shorebday-meeting-flyer.JPG.jpg
END:VEVENT
BEGIN:VEVENT
DTSTART;TZID=Pacific/Honolulu:20260708T183000
DTEND;TZID=Pacific/Honolulu:20260708T200000
DTSTAMP:20260423T014222
CREATED:20230302T014314Z
LAST-MODIFIED:20260407T011312Z
UID:10001918-1783535400-1783540800@www.oahuaa.org
SUMMARY:Oahu Intergroup Business Meeting
DESCRIPTION:
URL:https://www.oahuaa.org/event-calendar/oahu-intergroup-business-meeting-2/2026-07-08/
LOCATION:Susannah Wesley Community Center\, 1117 Kaili St #3432\, Honolulu\, HI\, 96819\, United States
ATTACH;FMTTYPE=image/jpeg:https://www.oahuaa.org/wp-content/uploads/OIGBusinessMeeting.jpg
END:VEVENT
BEGIN:VEVENT
DTSTART;TZID=Pacific/Honolulu:20260725T120000
DTEND;TZID=Pacific/Honolulu:20260725T130000
DTSTAMP:20260423T014222
CREATED:20251119T022207Z
LAST-MODIFIED:20251119T022210Z
UID:10002069-1784980800-1784984400@www.oahuaa.org
SUMMARY:North Shore Birthday Celebration Meeting
DESCRIPTION:
URL:https://www.oahuaa.org/event-calendar/north-shore-birthday-celebration-meeting-3/2026-07-25/
LOCATION:Haleiwa Beach Park\, 62-449 Kamehameha Hwy\, Haleiwa\, HI\, 96712\, United States
ATTACH;FMTTYPE=image/jpeg:https://www.oahuaa.org/wp-content/uploads/2024/06/north-shorebday-meeting-flyer.JPG.jpg
END:VEVENT
BEGIN:VEVENT
DTSTART;TZID=Pacific/Honolulu:20260812T183000
DTEND;TZID=Pacific/Honolulu:20260812T200000
DTSTAMP:20260423T014222
CREATED:20230302T014314Z
LAST-MODIFIED:20260407T011312Z
UID:10001919-1786559400-1786564800@www.oahuaa.org
SUMMARY:Oahu Intergroup Business Meeting
DESCRIPTION:
URL:https://www.oahuaa.org/event-calendar/oahu-intergroup-business-meeting-2/2026-08-12/
LOCATION:Susannah Wesley Community Center\, 1117 Kaili St #3432\, Honolulu\, HI\, 96819\, United States
ATTACH;FMTTYPE=image/jpeg:https://www.oahuaa.org/wp-content/uploads/OIGBusinessMeeting.jpg
END:VEVENT
BEGIN:VEVENT
DTSTART;TZID=Pacific/Honolulu:20260829T120000
DTEND;TZID=Pacific/Honolulu:20260829T130000
DTSTAMP:20260423T014222
CREATED:20251119T022207Z
LAST-MODIFIED:20251119T022210Z
UID:10002070-1788004800-1788008400@www.oahuaa.org
SUMMARY:North Shore Birthday Celebration Meeting
DESCRIPTION:
URL:https://www.oahuaa.org/event-calendar/north-shore-birthday-celebration-meeting-3/2026-08-29/
LOCATION:Haleiwa Beach Park\, 62-449 Kamehameha Hwy\, Haleiwa\, HI\, 96712\, United States
ATTACH;FMTTYPE=image/jpeg:https://www.oahuaa.org/wp-content/uploads/2024/06/north-shorebday-meeting-flyer.JPG.jpg
END:VEVENT
BEGIN:VEVENT
DTSTART;TZID=Pacific/Honolulu:20260909T183000
DTEND;TZID=Pacific/Honolulu:20260909T200000
DTSTAMP:20260423T014222
CREATED:20230302T014314Z
LAST-MODIFIED:20260407T011312Z
UID:10001920-1788978600-1788984000@www.oahuaa.org
SUMMARY:Oahu Intergroup Business Meeting
DESCRIPTION:
URL:https://www.oahuaa.org/event-calendar/oahu-intergroup-business-meeting-2/2026-09-09/
LOCATION:Susannah Wesley Community Center\, 1117 Kaili St #3432\, Honolulu\, HI\, 96819\, United States
ATTACH;FMTTYPE=image/jpeg:https://www.oahuaa.org/wp-content/uploads/OIGBusinessMeeting.jpg
END:VEVENT
BEGIN:VEVENT
DTSTART;TZID=Pacific/Honolulu:20260911T080000
DTEND;TZID=Pacific/Honolulu:20260913T170000
DTSTAMP:20260423T014222
CREATED:20260421T005916Z
LAST-MODIFIED:20260421T005916Z
UID:10002126-1789113600-1789318800@www.oahuaa.org
SUMMARY:Kalihi Sobriety 9th Annual Spiritual Retreat
DESCRIPTION:
URL:https://www.oahuaa.org/event-calendar/kalihi-sobriety-9th-annual-spiritual-retreat/
LOCATION:Camp Homelani\, 68-243 Olohio Street\, Waialua\, HI\, 96791
ATTACH;FMTTYPE=image/webp:https://www.oahuaa.org/wp-content/uploads/Screenshot-2026-04-20-145306.webp
END:VEVENT
BEGIN:VEVENT
DTSTART;TZID=Pacific/Honolulu:20260926T120000
DTEND;TZID=Pacific/Honolulu:20260926T130000
DTSTAMP:20260423T014222
CREATED:20251119T022207Z
LAST-MODIFIED:20251119T022210Z
UID:10002071-1790424000-1790427600@www.oahuaa.org
SUMMARY:North Shore Birthday Celebration Meeting
DESCRIPTION:
URL:https://www.oahuaa.org/event-calendar/north-shore-birthday-celebration-meeting-3/2026-09-26/
LOCATION:Haleiwa Beach Park\, 62-449 Kamehameha Hwy\, Haleiwa\, HI\, 96712\, United States
ATTACH;FMTTYPE=image/jpeg:https://www.oahuaa.org/wp-content/uploads/2024/06/north-shorebday-meeting-flyer.JPG.jpg
END:VEVENT
BEGIN:VEVENT
DTSTART;TZID=Pacific/Honolulu:20261014T183000
DTEND;TZID=Pacific/Honolulu:20261014T200000
DTSTAMP:20260423T014222
CREATED:20230302T014314Z
LAST-MODIFIED:20260407T011312Z
UID:10001921-1792002600-1792008000@www.oahuaa.org
SUMMARY:Oahu Intergroup Business Meeting
DESCRIPTION:
URL:https://www.oahuaa.org/event-calendar/oahu-intergroup-business-meeting-2/2026-10-14/
LOCATION:Susannah Wesley Community Center\, 1117 Kaili St #3432\, Honolulu\, HI\, 96819\, United States
ATTACH;FMTTYPE=image/jpeg:https://www.oahuaa.org/wp-content/uploads/OIGBusinessMeeting.jpg
END:VEVENT
BEGIN:VEVENT
DTSTART;TZID=Pacific/Honolulu:20261031T120000
DTEND;TZID=Pacific/Honolulu:20261031T130000
DTSTAMP:20260423T014222
CREATED:20251119T022207Z
LAST-MODIFIED:20251119T022210Z
UID:10002072-1793448000-1793451600@www.oahuaa.org
SUMMARY:North Shore Birthday Celebration Meeting
DESCRIPTION:
URL:https://www.oahuaa.org/event-calendar/north-shore-birthday-celebration-meeting-3/2026-10-31/
LOCATION:Haleiwa Beach Park\, 62-449 Kamehameha Hwy\, Haleiwa\, HI\, 96712\, United States
ATTACH;FMTTYPE=image/jpeg:https://www.oahuaa.org/wp-content/uploads/2024/06/north-shorebday-meeting-flyer.JPG.jpg
END:VEVENT
BEGIN:VEVENT
DTSTART;TZID=Pacific/Honolulu:20261111T183000
DTEND;TZID=Pacific/Honolulu:20261111T200000
DTSTAMP:20260423T014222
CREATED:20230302T014314Z
LAST-MODIFIED:20260407T011312Z
UID:10001922-1794421800-1794427200@www.oahuaa.org
SUMMARY:Oahu Intergroup Business Meeting
DESCRIPTION:
URL:https://www.oahuaa.org/event-calendar/oahu-intergroup-business-meeting-2/2026-11-11/
LOCATION:Susannah Wesley Community Center\, 1117 Kaili St #3432\, Honolulu\, HI\, 96819\, United States
ATTACH;FMTTYPE=image/jpeg:https://www.oahuaa.org/wp-content/uploads/OIGBusinessMeeting.jpg
END:VEVENT
BEGIN:VEVENT
DTSTART;TZID=Pacific/Honolulu:20261128T120000
DTEND;TZID=Pacific/Honolulu:20261128T130000
DTSTAMP:20260423T014222
CREATED:20251119T022207Z
LAST-MODIFIED:20251119T022210Z
UID:10002073-1795867200-1795870800@www.oahuaa.org
SUMMARY:North Shore Birthday Celebration Meeting
DESCRIPTION:
URL:https://www.oahuaa.org/event-calendar/north-shore-birthday-celebration-meeting-3/2026-11-28/
LOCATION:Haleiwa Beach Park\, 62-449 Kamehameha Hwy\, Haleiwa\, HI\, 96712\, United States
ATTACH;FMTTYPE=image/jpeg:https://www.oahuaa.org/wp-content/uploads/2024/06/north-shorebday-meeting-flyer.JPG.jpg
END:VEVENT
BEGIN:VEVENT
DTSTART;TZID=Pacific/Honolulu:20261209T183000
DTEND;TZID=Pacific/Honolulu:20261209T200000
DTSTAMP:20260423T014222
CREATED:20230302T014314Z
LAST-MODIFIED:20260407T011312Z
UID:10001923-1796841000-1796846400@www.oahuaa.org
SUMMARY:Oahu Intergroup Business Meeting
DESCRIPTION:
URL:https://www.oahuaa.org/event-calendar/oahu-intergroup-business-meeting-2/2026-12-09/
LOCATION:Susannah Wesley Community Center\, 1117 Kaili St #3432\, Honolulu\, HI\, 96819\, United States
ATTACH;FMTTYPE=image/jpeg:https://www.oahuaa.org/wp-content/uploads/OIGBusinessMeeting.jpg
END:VEVENT
BEGIN:VEVENT
DTSTART;TZID=Pacific/Honolulu:20261226T120000
DTEND;TZID=Pacific/Honolulu:20261226T130000
DTSTAMP:20260423T014222
CREATED:20251119T022207Z
LAST-MODIFIED:20251119T022210Z
UID:10002074-1798286400-1798290000@www.oahuaa.org
SUMMARY:North Shore Birthday Celebration Meeting
DESCRIPTION:
URL:https://www.oahuaa.org/event-calendar/north-shore-birthday-celebration-meeting-3/2026-12-26/
LOCATION:Haleiwa Beach Park\, 62-449 Kamehameha Hwy\, Haleiwa\, HI\, 96712\, United States
ATTACH;FMTTYPE=image/jpeg:https://www.oahuaa.org/wp-content/uploads/2024/06/north-shorebday-meeting-flyer.JPG.jpg
END:VEVENT
BEGIN:VEVENT
DTSTART;TZID=Pacific/Honolulu:20270101T000000
DTEND;TZID=Pacific/Honolulu:20270101T235959
DTSTAMP:20260423T014222
CREATED:20231005T221332Z
LAST-MODIFIED:20241227T072320Z
UID:10001898-1798761600-1798847999@www.oahuaa.org
SUMMARY:New Year's Day (Central Office Closed)
DESCRIPTION:
URL:https://www.oahuaa.org/event-calendar/new-years-day-central-office-closed-2/2027-01-01/
LOCATION:HI
ATTACH;FMTTYPE=image/jpeg:https://www.oahuaa.org/wp-content/uploads/stainedglass-joed.jpg
END:VEVENT
BEGIN:VEVENT
DTSTART;TZID=Pacific/Honolulu:20270113T183000
DTEND;TZID=Pacific/Honolulu:20270113T200000
DTSTAMP:20260423T014222
CREATED:20230302T014314Z
LAST-MODIFIED:20260407T011312Z
UID:10001924-1799865000-1799870400@www.oahuaa.org
SUMMARY:Oahu Intergroup Business Meeting
DESCRIPTION:
URL:https://www.oahuaa.org/event-calendar/oahu-intergroup-business-meeting-2/2027-01-13/
LOCATION:Susannah Wesley Community Center\, 1117 Kaili St #3432\, Honolulu\, HI\, 96819\, United States
ATTACH;FMTTYPE=image/jpeg:https://www.oahuaa.org/wp-content/uploads/OIGBusinessMeeting.jpg
END:VEVENT
BEGIN:VEVENT
DTSTART;TZID=Pacific/Honolulu:20270130T120000
DTEND;TZID=Pacific/Honolulu:20270130T130000
DTSTAMP:20260423T014222
CREATED:20251119T022207Z
LAST-MODIFIED:20251119T022210Z
UID:10002075-1801310400-1801314000@www.oahuaa.org
SUMMARY:North Shore Birthday Celebration Meeting
DESCRIPTION:
URL:https://www.oahuaa.org/event-calendar/north-shore-birthday-celebration-meeting-3/2027-01-30/
LOCATION:Haleiwa Beach Park\, 62-449 Kamehameha Hwy\, Haleiwa\, HI\, 96712\, United States
ATTACH;FMTTYPE=image/jpeg:https://www.oahuaa.org/wp-content/uploads/2024/06/north-shorebday-meeting-flyer.JPG.jpg
END:VEVENT
BEGIN:VEVENT
DTSTART;TZID=Pacific/Honolulu:20270210T183000
DTEND;TZID=Pacific/Honolulu:20270210T200000
DTSTAMP:20260423T014222
CREATED:20230302T014314Z
LAST-MODIFIED:20260407T011312Z
UID:10001925-1802284200-1802289600@www.oahuaa.org
SUMMARY:Oahu Intergroup Business Meeting
DESCRIPTION:
URL:https://www.oahuaa.org/event-calendar/oahu-intergroup-business-meeting-2/2027-02-10/
LOCATION:Susannah Wesley Community Center\, 1117 Kaili St #3432\, Honolulu\, HI\, 96819\, United States
ATTACH;FMTTYPE=image/jpeg:https://www.oahuaa.org/wp-content/uploads/OIGBusinessMeeting.jpg
END:VEVENT
BEGIN:VEVENT
DTSTART;TZID=Pacific/Honolulu:20270227T120000
DTEND;TZID=Pacific/Honolulu:20270227T130000
DTSTAMP:20260423T014222
CREATED:20251119T022207Z
LAST-MODIFIED:20251119T022210Z
UID:10002076-1803729600-1803733200@www.oahuaa.org
SUMMARY:North Shore Birthday Celebration Meeting
DESCRIPTION:
URL:https://www.oahuaa.org/event-calendar/north-shore-birthday-celebration-meeting-3/2027-02-27/
LOCATION:Haleiwa Beach Park\, 62-449 Kamehameha Hwy\, Haleiwa\, HI\, 96712\, United States
ATTACH;FMTTYPE=image/jpeg:https://www.oahuaa.org/wp-content/uploads/2024/06/north-shorebday-meeting-flyer.JPG.jpg
END:VEVENT
BEGIN:VEVENT
DTSTART;TZID=Pacific/Honolulu:20270310T183000
DTEND;TZID=Pacific/Honolulu:20270310T200000
DTSTAMP:20260423T014222
CREATED:20230302T014314Z
LAST-MODIFIED:20260407T011312Z
UID:10001926-1804703400-1804708800@www.oahuaa.org
SUMMARY:Oahu Intergroup Business Meeting
DESCRIPTION:
URL:https://www.oahuaa.org/event-calendar/oahu-intergroup-business-meeting-2/2027-03-10/
LOCATION:Susannah Wesley Community Center\, 1117 Kaili St #3432\, Honolulu\, HI\, 96819\, United States
ATTACH;FMTTYPE=image/jpeg:https://www.oahuaa.org/wp-content/uploads/OIGBusinessMeeting.jpg
END:VEVENT
END:VCALENDAR