BEGIN:VCALENDAR
VERSION:2.0
PRODID:-//Alcoholics Anonymous on O&#039;ahu - ECPv6.15.20//NONSGML v1.0//EN
CALSCALE:GREGORIAN
METHOD:PUBLISH
X-WR-CALNAME:Alcoholics Anonymous on O&#039;ahu
X-ORIGINAL-URL:https://www.oahuaa.org
X-WR-CALDESC:Events for Alcoholics Anonymous on O&#039;ahu
REFRESH-INTERVAL;VALUE=DURATION:PT1H
X-Robots-Tag:noindex
X-PUBLISHED-TTL:PT1H
BEGIN:VTIMEZONE
TZID:Pacific/Honolulu
BEGIN:STANDARD
TZOFFSETFROM:-1000
TZOFFSETTO:-1000
TZNAME:HST
DTSTART:20240101T000000
END:STANDARD
END:VTIMEZONE
BEGIN:VEVENT
DTSTART;TZID=Pacific/Honolulu:20251231T140000
DTEND;TZID=Pacific/Honolulu:20260101T140000
DTSTAMP:20260425T043124
CREATED:20251126T213647Z
LAST-MODIFIED:20251126T213647Z
UID:10002085-1767189600-1767276000@www.oahuaa.org
SUMMARY:District 2 New Year's Alcathon
DESCRIPTION:
URL:https://www.oahuaa.org/event-calendar/district-2-new-years-alcathon/
LOCATION:Princess Ruth Ke`elikolani Middle School
ATTACH;FMTTYPE=image/jpeg:https://www.oahuaa.org/wp-content/uploads/NY-2025-Thankathon-flyer.jpg
END:VEVENT
BEGIN:VEVENT
DTSTART;TZID=Pacific/Honolulu:20251231T190000
DTEND;TZID=Pacific/Honolulu:20260101T190000
DTSTAMP:20260425T043124
CREATED:20251223T203233Z
LAST-MODIFIED:20251223T203233Z
UID:10002092-1767207600-1767294000@www.oahuaa.org
SUMMARY:District 4 New Year's Alkathon
DESCRIPTION:
URL:https://www.oahuaa.org/event-calendar/district-4-new-years-alkathon/
LOCATION:St. Christopher’s Episcopal Church\, 93 North Kainalu \, City: \, State: Hawaii\, Zip Code: \,\, Kailua\, HI\, 96734\, United States
ATTACH;FMTTYPE=image/jpeg:https://www.oahuaa.org/wp-content/uploads/District4NewYearsAlkathonFlyer.jpg
END:VEVENT
BEGIN:VEVENT
DTSTART;TZID=Pacific/Honolulu:20260101T000000
DTEND;TZID=Pacific/Honolulu:20260101T235959
DTSTAMP:20260425T043124
CREATED:20231005T221332Z
LAST-MODIFIED:20241227T072320Z
UID:10001897-1767225600-1767311999@www.oahuaa.org
SUMMARY:New Year's Day (Central Office Closed)
DESCRIPTION:
URL:https://www.oahuaa.org/event-calendar/new-years-day-central-office-closed-2/2026-01-01/
LOCATION:HI
ATTACH;FMTTYPE=image/jpeg:https://www.oahuaa.org/wp-content/uploads/stainedglass-joed.jpg
END:VEVENT
BEGIN:VEVENT
DTSTART;TZID=Pacific/Honolulu:20260110T120000
DTEND;TZID=Pacific/Honolulu:20260110T133000
DTSTAMP:20260425T043124
CREATED:20260108T231837Z
LAST-MODIFIED:20260108T231837Z
UID:10002094-1768046400-1768051800@www.oahuaa.org
SUMMARY:District 3 Workshop - Attraction rather than Promotion
DESCRIPTION:
URL:https://www.oahuaa.org/event-calendar/district-3-workshop-attraction-rather-than-promotion/
LOCATION:Joy of Christ Lutheran Church\, 784 Kamehameha Hwy W\, Pearl City\, HI\, 96782\, United States
ATTACH;FMTTYPE=image/jpeg:https://www.oahuaa.org/wp-content/uploads/X-Factah-Service-Workshop.jpg
END:VEVENT
BEGIN:VEVENT
DTSTART;TZID=Pacific/Honolulu:20260114T183000
DTEND;TZID=Pacific/Honolulu:20260114T200000
DTSTAMP:20260425T043124
CREATED:20230302T014314Z
LAST-MODIFIED:20260407T011312Z
UID:10001912-1768415400-1768420800@www.oahuaa.org
SUMMARY:Oahu Intergroup Business Meeting
DESCRIPTION:
URL:https://www.oahuaa.org/event-calendar/oahu-intergroup-business-meeting-2/2026-01-14/
LOCATION:Susannah Wesley Community Center\, 1117 Kaili St #3432\, Honolulu\, HI\, 96819\, United States
ATTACH;FMTTYPE=image/jpeg:https://www.oahuaa.org/wp-content/uploads/OIGBusinessMeeting.jpg
END:VEVENT
BEGIN:VEVENT
DTSTART;TZID=Pacific/Honolulu:20260117T130000
DTEND;TZID=Pacific/Honolulu:20260117T150000
DTSTAMP:20260425T043124
CREATED:20260108T014449Z
LAST-MODIFIED:20260108T014716Z
UID:10002093-1768654800-1768662000@www.oahuaa.org
SUMMARY:Kupuna Day
DESCRIPTION:
URL:https://www.oahuaa.org/event-calendar/kupuna-day/
LOCATION:Zoom
ATTACH;FMTTYPE=image/png:https://www.oahuaa.org/wp-content/uploads/Screenshot-9.png
END:VEVENT
BEGIN:VEVENT
DTSTART;TZID=Pacific/Honolulu:20260118T140000
DTEND;TZID=Pacific/Honolulu:20260118T160000
DTSTAMP:20260425T043124
CREATED:20260113T021945Z
LAST-MODIFIED:20260114T235710Z
UID:10002095-1768744800-1768752000@www.oahuaa.org
SUMMARY:Working Together\, Increasing Trust -- Final Conference Report
DESCRIPTION:
URL:https://www.oahuaa.org/event-calendar/working-together-increasing-trust-final-conference-report/2026-01-18/
LOCATION:Zoom
ATTACH;FMTTYPE=image/jpeg:https://www.oahuaa.org/wp-content/uploads/Final-Conf-report-e1768270412267.jpeg
END:VEVENT
BEGIN:VEVENT
DTSTART;TZID=Pacific/Honolulu:20260125T130000
DTEND;TZID=Pacific/Honolulu:20260125T150000
DTSTAMP:20260425T043124
CREATED:20260113T204729Z
LAST-MODIFIED:20260226T205203Z
UID:10002096-1769346000-1769353200@www.oahuaa.org
SUMMARY:Asians\, Transgender--call for stories
DESCRIPTION:
URL:https://www.oahuaa.org/event-calendar/asians-transgender-call-for-stories/2026-01-25/
LOCATION:Zoom
ATTACH;FMTTYPE=image/webp:https://www.oahuaa.org/wp-content/uploads/stories-trans.webp
END:VEVENT
BEGIN:VEVENT
DTSTART;TZID=Pacific/Honolulu:20260125T140000
DTEND;TZID=Pacific/Honolulu:20260125T160000
DTSTAMP:20260425T043125
CREATED:20260113T021945Z
LAST-MODIFIED:20260114T235710Z
UID:10002099-1769349600-1769356800@www.oahuaa.org
SUMMARY:Working Together\, Increasing Trust -- Final Conference Report
DESCRIPTION:
URL:https://www.oahuaa.org/event-calendar/working-together-increasing-trust-final-conference-report/2026-01-25/
LOCATION:Zoom
ATTACH;FMTTYPE=image/jpeg:https://www.oahuaa.org/wp-content/uploads/Final-Conf-report-e1768270412267.jpeg
END:VEVENT
BEGIN:VEVENT
DTSTART;TZID=Pacific/Honolulu:20260131T120000
DTEND;TZID=Pacific/Honolulu:20260131T130000
DTSTAMP:20260425T043125
CREATED:20251119T022207Z
LAST-MODIFIED:20251119T022210Z
UID:10002063-1769860800-1769864400@www.oahuaa.org
SUMMARY:North Shore Birthday Celebration Meeting
DESCRIPTION:
URL:https://www.oahuaa.org/event-calendar/north-shore-birthday-celebration-meeting-3/2026-01-31/
LOCATION:Haleiwa Beach Park\, 62-449 Kamehameha Hwy\, Haleiwa\, HI\, 96712\, United States
ATTACH;FMTTYPE=image/jpeg:https://www.oahuaa.org/wp-content/uploads/2024/06/north-shorebday-meeting-flyer.JPG.jpg
END:VEVENT
END:VCALENDAR