BEGIN:VCALENDAR
VERSION:2.0
PRODID:-//Alcoholics Anonymous on O&#039;ahu - ECPv6.15.20//NONSGML v1.0//EN
CALSCALE:GREGORIAN
METHOD:PUBLISH
X-WR-CALNAME:Alcoholics Anonymous on O&#039;ahu
X-ORIGINAL-URL:https://www.oahuaa.org
X-WR-CALDESC:Events for Alcoholics Anonymous on O&#039;ahu
REFRESH-INTERVAL;VALUE=DURATION:PT1H
X-Robots-Tag:noindex
X-PUBLISHED-TTL:PT1H
BEGIN:VTIMEZONE
TZID:Pacific/Honolulu
BEGIN:STANDARD
TZOFFSETFROM:-1000
TZOFFSETTO:-1000
TZNAME:HST
DTSTART:20250101T000000
END:STANDARD
END:VTIMEZONE
BEGIN:VEVENT
DTSTART;TZID=Pacific/Honolulu:20260513T183000
DTEND;TZID=Pacific/Honolulu:20260513T200000
DTSTAMP:20260423T032421
CREATED:20230302T014314Z
LAST-MODIFIED:20260407T011312Z
UID:10001916-1778697000-1778702400@www.oahuaa.org
SUMMARY:Oahu Intergroup Business Meeting
DESCRIPTION:
URL:https://www.oahuaa.org/event-calendar/oahu-intergroup-business-meeting-2/2026-05-13/
LOCATION:Susannah Wesley Community Center\, 1117 Kaili St #3432\, Honolulu\, HI\, 96819\, United States
ATTACH;FMTTYPE=image/jpeg:https://www.oahuaa.org/wp-content/uploads/OIGBusinessMeeting.jpg
END:VEVENT
BEGIN:VEVENT
DTSTART;TZID=Pacific/Honolulu:20260610T183000
DTEND;TZID=Pacific/Honolulu:20260610T200000
DTSTAMP:20260423T032421
CREATED:20230302T014314Z
LAST-MODIFIED:20260407T011312Z
UID:10001917-1781116200-1781121600@www.oahuaa.org
SUMMARY:Oahu Intergroup Business Meeting
DESCRIPTION:
URL:https://www.oahuaa.org/event-calendar/oahu-intergroup-business-meeting-2/2026-06-10/
LOCATION:Susannah Wesley Community Center\, 1117 Kaili St #3432\, Honolulu\, HI\, 96819\, United States
ATTACH;FMTTYPE=image/jpeg:https://www.oahuaa.org/wp-content/uploads/OIGBusinessMeeting.jpg
END:VEVENT
BEGIN:VEVENT
DTSTART;TZID=Pacific/Honolulu:20260708T183000
DTEND;TZID=Pacific/Honolulu:20260708T200000
DTSTAMP:20260423T032421
CREATED:20230302T014314Z
LAST-MODIFIED:20260407T011312Z
UID:10001918-1783535400-1783540800@www.oahuaa.org
SUMMARY:Oahu Intergroup Business Meeting
DESCRIPTION:
URL:https://www.oahuaa.org/event-calendar/oahu-intergroup-business-meeting-2/2026-07-08/
LOCATION:Susannah Wesley Community Center\, 1117 Kaili St #3432\, Honolulu\, HI\, 96819\, United States
ATTACH;FMTTYPE=image/jpeg:https://www.oahuaa.org/wp-content/uploads/OIGBusinessMeeting.jpg
END:VEVENT
BEGIN:VEVENT
DTSTART;TZID=Pacific/Honolulu:20260812T183000
DTEND;TZID=Pacific/Honolulu:20260812T200000
DTSTAMP:20260423T032421
CREATED:20230302T014314Z
LAST-MODIFIED:20260407T011312Z
UID:10001919-1786559400-1786564800@www.oahuaa.org
SUMMARY:Oahu Intergroup Business Meeting
DESCRIPTION:
URL:https://www.oahuaa.org/event-calendar/oahu-intergroup-business-meeting-2/2026-08-12/
LOCATION:Susannah Wesley Community Center\, 1117 Kaili St #3432\, Honolulu\, HI\, 96819\, United States
ATTACH;FMTTYPE=image/jpeg:https://www.oahuaa.org/wp-content/uploads/OIGBusinessMeeting.jpg
END:VEVENT
BEGIN:VEVENT
DTSTART;TZID=Pacific/Honolulu:20260909T183000
DTEND;TZID=Pacific/Honolulu:20260909T200000
DTSTAMP:20260423T032421
CREATED:20230302T014314Z
LAST-MODIFIED:20260407T011312Z
UID:10001920-1788978600-1788984000@www.oahuaa.org
SUMMARY:Oahu Intergroup Business Meeting
DESCRIPTION:
URL:https://www.oahuaa.org/event-calendar/oahu-intergroup-business-meeting-2/2026-09-09/
LOCATION:Susannah Wesley Community Center\, 1117 Kaili St #3432\, Honolulu\, HI\, 96819\, United States
ATTACH;FMTTYPE=image/jpeg:https://www.oahuaa.org/wp-content/uploads/OIGBusinessMeeting.jpg
END:VEVENT
BEGIN:VEVENT
DTSTART;TZID=Pacific/Honolulu:20261014T183000
DTEND;TZID=Pacific/Honolulu:20261014T200000
DTSTAMP:20260423T032421
CREATED:20230302T014314Z
LAST-MODIFIED:20260407T011312Z
UID:10001921-1792002600-1792008000@www.oahuaa.org
SUMMARY:Oahu Intergroup Business Meeting
DESCRIPTION:
URL:https://www.oahuaa.org/event-calendar/oahu-intergroup-business-meeting-2/2026-10-14/
LOCATION:Susannah Wesley Community Center\, 1117 Kaili St #3432\, Honolulu\, HI\, 96819\, United States
ATTACH;FMTTYPE=image/jpeg:https://www.oahuaa.org/wp-content/uploads/OIGBusinessMeeting.jpg
END:VEVENT
BEGIN:VEVENT
DTSTART;TZID=Pacific/Honolulu:20261111T183000
DTEND;TZID=Pacific/Honolulu:20261111T200000
DTSTAMP:20260423T032421
CREATED:20230302T014314Z
LAST-MODIFIED:20260407T011312Z
UID:10001922-1794421800-1794427200@www.oahuaa.org
SUMMARY:Oahu Intergroup Business Meeting
DESCRIPTION:
URL:https://www.oahuaa.org/event-calendar/oahu-intergroup-business-meeting-2/2026-11-11/
LOCATION:Susannah Wesley Community Center\, 1117 Kaili St #3432\, Honolulu\, HI\, 96819\, United States
ATTACH;FMTTYPE=image/jpeg:https://www.oahuaa.org/wp-content/uploads/OIGBusinessMeeting.jpg
END:VEVENT
BEGIN:VEVENT
DTSTART;TZID=Pacific/Honolulu:20261209T183000
DTEND;TZID=Pacific/Honolulu:20261209T200000
DTSTAMP:20260423T032421
CREATED:20230302T014314Z
LAST-MODIFIED:20260407T011312Z
UID:10001923-1796841000-1796846400@www.oahuaa.org
SUMMARY:Oahu Intergroup Business Meeting
DESCRIPTION:
URL:https://www.oahuaa.org/event-calendar/oahu-intergroup-business-meeting-2/2026-12-09/
LOCATION:Susannah Wesley Community Center\, 1117 Kaili St #3432\, Honolulu\, HI\, 96819\, United States
ATTACH;FMTTYPE=image/jpeg:https://www.oahuaa.org/wp-content/uploads/OIGBusinessMeeting.jpg
END:VEVENT
BEGIN:VEVENT
DTSTART;TZID=Pacific/Honolulu:20270113T183000
DTEND;TZID=Pacific/Honolulu:20270113T200000
DTSTAMP:20260423T032421
CREATED:20230302T014314Z
LAST-MODIFIED:20260407T011312Z
UID:10001924-1799865000-1799870400@www.oahuaa.org
SUMMARY:Oahu Intergroup Business Meeting
DESCRIPTION:
URL:https://www.oahuaa.org/event-calendar/oahu-intergroup-business-meeting-2/2027-01-13/
LOCATION:Susannah Wesley Community Center\, 1117 Kaili St #3432\, Honolulu\, HI\, 96819\, United States
ATTACH;FMTTYPE=image/jpeg:https://www.oahuaa.org/wp-content/uploads/OIGBusinessMeeting.jpg
END:VEVENT
BEGIN:VEVENT
DTSTART;TZID=Pacific/Honolulu:20270210T183000
DTEND;TZID=Pacific/Honolulu:20270210T200000
DTSTAMP:20260423T032421
CREATED:20230302T014314Z
LAST-MODIFIED:20260407T011312Z
UID:10001925-1802284200-1802289600@www.oahuaa.org
SUMMARY:Oahu Intergroup Business Meeting
DESCRIPTION:
URL:https://www.oahuaa.org/event-calendar/oahu-intergroup-business-meeting-2/2027-02-10/
LOCATION:Susannah Wesley Community Center\, 1117 Kaili St #3432\, Honolulu\, HI\, 96819\, United States
ATTACH;FMTTYPE=image/jpeg:https://www.oahuaa.org/wp-content/uploads/OIGBusinessMeeting.jpg
END:VEVENT
BEGIN:VEVENT
DTSTART;TZID=Pacific/Honolulu:20270310T183000
DTEND;TZID=Pacific/Honolulu:20270310T200000
DTSTAMP:20260423T032421
CREATED:20230302T014314Z
LAST-MODIFIED:20260407T011312Z
UID:10001926-1804703400-1804708800@www.oahuaa.org
SUMMARY:Oahu Intergroup Business Meeting
DESCRIPTION:
URL:https://www.oahuaa.org/event-calendar/oahu-intergroup-business-meeting-2/2027-03-10/
LOCATION:Susannah Wesley Community Center\, 1117 Kaili St #3432\, Honolulu\, HI\, 96819\, United States
ATTACH;FMTTYPE=image/jpeg:https://www.oahuaa.org/wp-content/uploads/OIGBusinessMeeting.jpg
END:VEVENT
BEGIN:VEVENT
DTSTART;TZID=Pacific/Honolulu:20270414T183000
DTEND;TZID=Pacific/Honolulu:20270414T200000
DTSTAMP:20260423T032421
CREATED:20230302T014314Z
LAST-MODIFIED:20260407T011312Z
UID:10001927-1807727400-1807732800@www.oahuaa.org
SUMMARY:Oahu Intergroup Business Meeting
DESCRIPTION:
URL:https://www.oahuaa.org/event-calendar/oahu-intergroup-business-meeting-2/2027-04-14/
LOCATION:Susannah Wesley Community Center\, 1117 Kaili St #3432\, Honolulu\, HI\, 96819\, United States
ATTACH;FMTTYPE=image/jpeg:https://www.oahuaa.org/wp-content/uploads/OIGBusinessMeeting.jpg
END:VEVENT
BEGIN:VEVENT
DTSTART;TZID=Pacific/Honolulu:20270512T183000
DTEND;TZID=Pacific/Honolulu:20270512T200000
DTSTAMP:20260423T032421
CREATED:20230302T014314Z
LAST-MODIFIED:20260407T011312Z
UID:10001928-1810146600-1810152000@www.oahuaa.org
SUMMARY:Oahu Intergroup Business Meeting
DESCRIPTION:
URL:https://www.oahuaa.org/event-calendar/oahu-intergroup-business-meeting-2/2027-05-12/
LOCATION:Susannah Wesley Community Center\, 1117 Kaili St #3432\, Honolulu\, HI\, 96819\, United States
ATTACH;FMTTYPE=image/jpeg:https://www.oahuaa.org/wp-content/uploads/OIGBusinessMeeting.jpg
END:VEVENT
BEGIN:VEVENT
DTSTART;TZID=Pacific/Honolulu:20270609T183000
DTEND;TZID=Pacific/Honolulu:20270609T200000
DTSTAMP:20260423T032421
CREATED:20230302T014314Z
LAST-MODIFIED:20260407T011312Z
UID:10001929-1812565800-1812571200@www.oahuaa.org
SUMMARY:Oahu Intergroup Business Meeting
DESCRIPTION:
URL:https://www.oahuaa.org/event-calendar/oahu-intergroup-business-meeting-2/2027-06-09/
LOCATION:Susannah Wesley Community Center\, 1117 Kaili St #3432\, Honolulu\, HI\, 96819\, United States
ATTACH;FMTTYPE=image/jpeg:https://www.oahuaa.org/wp-content/uploads/OIGBusinessMeeting.jpg
END:VEVENT
BEGIN:VEVENT
DTSTART;TZID=Pacific/Honolulu:20270714T183000
DTEND;TZID=Pacific/Honolulu:20270714T200000
DTSTAMP:20260423T032421
CREATED:20230302T014314Z
LAST-MODIFIED:20260407T011312Z
UID:10001930-1815589800-1815595200@www.oahuaa.org
SUMMARY:Oahu Intergroup Business Meeting
DESCRIPTION:
URL:https://www.oahuaa.org/event-calendar/oahu-intergroup-business-meeting-2/2027-07-14/
LOCATION:Susannah Wesley Community Center\, 1117 Kaili St #3432\, Honolulu\, HI\, 96819\, United States
ATTACH;FMTTYPE=image/jpeg:https://www.oahuaa.org/wp-content/uploads/OIGBusinessMeeting.jpg
END:VEVENT
BEGIN:VEVENT
DTSTART;TZID=Pacific/Honolulu:20270811T183000
DTEND;TZID=Pacific/Honolulu:20270811T200000
DTSTAMP:20260423T032421
CREATED:20230302T014314Z
LAST-MODIFIED:20260407T011312Z
UID:10001931-1818009000-1818014400@www.oahuaa.org
SUMMARY:Oahu Intergroup Business Meeting
DESCRIPTION:
URL:https://www.oahuaa.org/event-calendar/oahu-intergroup-business-meeting-2/2027-08-11/
LOCATION:Susannah Wesley Community Center\, 1117 Kaili St #3432\, Honolulu\, HI\, 96819\, United States
ATTACH;FMTTYPE=image/jpeg:https://www.oahuaa.org/wp-content/uploads/OIGBusinessMeeting.jpg
END:VEVENT
BEGIN:VEVENT
DTSTART;TZID=Pacific/Honolulu:20270908T183000
DTEND;TZID=Pacific/Honolulu:20270908T200000
DTSTAMP:20260423T032421
CREATED:20230302T014314Z
LAST-MODIFIED:20260407T011312Z
UID:10001932-1820428200-1820433600@www.oahuaa.org
SUMMARY:Oahu Intergroup Business Meeting
DESCRIPTION:
URL:https://www.oahuaa.org/event-calendar/oahu-intergroup-business-meeting-2/2027-09-08/
LOCATION:Susannah Wesley Community Center\, 1117 Kaili St #3432\, Honolulu\, HI\, 96819\, United States
ATTACH;FMTTYPE=image/jpeg:https://www.oahuaa.org/wp-content/uploads/OIGBusinessMeeting.jpg
END:VEVENT
BEGIN:VEVENT
DTSTART;TZID=Pacific/Honolulu:20271013T183000
DTEND;TZID=Pacific/Honolulu:20271013T200000
DTSTAMP:20260423T032421
CREATED:20230302T014314Z
LAST-MODIFIED:20260407T011312Z
UID:10001933-1823452200-1823457600@www.oahuaa.org
SUMMARY:Oahu Intergroup Business Meeting
DESCRIPTION:
URL:https://www.oahuaa.org/event-calendar/oahu-intergroup-business-meeting-2/2027-10-13/
LOCATION:Susannah Wesley Community Center\, 1117 Kaili St #3432\, Honolulu\, HI\, 96819\, United States
ATTACH;FMTTYPE=image/jpeg:https://www.oahuaa.org/wp-content/uploads/OIGBusinessMeeting.jpg
END:VEVENT
BEGIN:VEVENT
DTSTART;TZID=Pacific/Honolulu:20271110T183000
DTEND;TZID=Pacific/Honolulu:20271110T200000
DTSTAMP:20260423T032421
CREATED:20230302T014314Z
LAST-MODIFIED:20260407T011312Z
UID:10001934-1825871400-1825876800@www.oahuaa.org
SUMMARY:Oahu Intergroup Business Meeting
DESCRIPTION:
URL:https://www.oahuaa.org/event-calendar/oahu-intergroup-business-meeting-2/2027-11-10/
LOCATION:Susannah Wesley Community Center\, 1117 Kaili St #3432\, Honolulu\, HI\, 96819\, United States
ATTACH;FMTTYPE=image/jpeg:https://www.oahuaa.org/wp-content/uploads/OIGBusinessMeeting.jpg
END:VEVENT
BEGIN:VEVENT
DTSTART;TZID=Pacific/Honolulu:20271208T183000
DTEND;TZID=Pacific/Honolulu:20271208T200000
DTSTAMP:20260423T032421
CREATED:20230302T014314Z
LAST-MODIFIED:20260407T011312Z
UID:10001935-1828290600-1828296000@www.oahuaa.org
SUMMARY:Oahu Intergroup Business Meeting
DESCRIPTION:
URL:https://www.oahuaa.org/event-calendar/oahu-intergroup-business-meeting-2/2027-12-08/
LOCATION:Susannah Wesley Community Center\, 1117 Kaili St #3432\, Honolulu\, HI\, 96819\, United States
ATTACH;FMTTYPE=image/jpeg:https://www.oahuaa.org/wp-content/uploads/OIGBusinessMeeting.jpg
END:VEVENT
BEGIN:VEVENT
DTSTART;TZID=Pacific/Honolulu:20280112T183000
DTEND;TZID=Pacific/Honolulu:20280112T200000
DTSTAMP:20260423T032421
CREATED:20230302T014314Z
LAST-MODIFIED:20260407T011312Z
UID:10001936-1831314600-1831320000@www.oahuaa.org
SUMMARY:Oahu Intergroup Business Meeting
DESCRIPTION:
URL:https://www.oahuaa.org/event-calendar/oahu-intergroup-business-meeting-2/2028-01-12/
LOCATION:Susannah Wesley Community Center\, 1117 Kaili St #3432\, Honolulu\, HI\, 96819\, United States
ATTACH;FMTTYPE=image/jpeg:https://www.oahuaa.org/wp-content/uploads/OIGBusinessMeeting.jpg
END:VEVENT
BEGIN:VEVENT
DTSTART;TZID=Pacific/Honolulu:20280209T183000
DTEND;TZID=Pacific/Honolulu:20280209T200000
DTSTAMP:20260423T032421
CREATED:20230302T014314Z
LAST-MODIFIED:20260407T011312Z
UID:10001937-1833733800-1833739200@www.oahuaa.org
SUMMARY:Oahu Intergroup Business Meeting
DESCRIPTION:
URL:https://www.oahuaa.org/event-calendar/oahu-intergroup-business-meeting-2/2028-02-09/
LOCATION:Susannah Wesley Community Center\, 1117 Kaili St #3432\, Honolulu\, HI\, 96819\, United States
ATTACH;FMTTYPE=image/jpeg:https://www.oahuaa.org/wp-content/uploads/OIGBusinessMeeting.jpg
END:VEVENT
BEGIN:VEVENT
DTSTART;TZID=Pacific/Honolulu:20280308T183000
DTEND;TZID=Pacific/Honolulu:20280308T200000
DTSTAMP:20260423T032421
CREATED:20230302T014314Z
LAST-MODIFIED:20260407T011312Z
UID:10001938-1836153000-1836158400@www.oahuaa.org
SUMMARY:Oahu Intergroup Business Meeting
DESCRIPTION:
URL:https://www.oahuaa.org/event-calendar/oahu-intergroup-business-meeting-2/2028-03-08/
LOCATION:Susannah Wesley Community Center\, 1117 Kaili St #3432\, Honolulu\, HI\, 96819\, United States
ATTACH;FMTTYPE=image/jpeg:https://www.oahuaa.org/wp-content/uploads/OIGBusinessMeeting.jpg
END:VEVENT
BEGIN:VEVENT
DTSTART;TZID=Pacific/Honolulu:20280412T183000
DTEND;TZID=Pacific/Honolulu:20280412T200000
DTSTAMP:20260423T032421
CREATED:20230302T014314Z
LAST-MODIFIED:20260407T011312Z
UID:10001939-1839177000-1839182400@www.oahuaa.org
SUMMARY:Oahu Intergroup Business Meeting
DESCRIPTION:
URL:https://www.oahuaa.org/event-calendar/oahu-intergroup-business-meeting-2/2028-04-12/
LOCATION:Susannah Wesley Community Center\, 1117 Kaili St #3432\, Honolulu\, HI\, 96819\, United States
ATTACH;FMTTYPE=image/jpeg:https://www.oahuaa.org/wp-content/uploads/OIGBusinessMeeting.jpg
END:VEVENT
BEGIN:VEVENT
DTSTART;TZID=Pacific/Honolulu:20280510T183000
DTEND;TZID=Pacific/Honolulu:20280510T200000
DTSTAMP:20260423T032421
CREATED:20230302T014314Z
LAST-MODIFIED:20260407T011312Z
UID:10001940-1841596200-1841601600@www.oahuaa.org
SUMMARY:Oahu Intergroup Business Meeting
DESCRIPTION:
URL:https://www.oahuaa.org/event-calendar/oahu-intergroup-business-meeting-2/2028-05-10/
LOCATION:Susannah Wesley Community Center\, 1117 Kaili St #3432\, Honolulu\, HI\, 96819\, United States
ATTACH;FMTTYPE=image/jpeg:https://www.oahuaa.org/wp-content/uploads/OIGBusinessMeeting.jpg
END:VEVENT
BEGIN:VEVENT
DTSTART;TZID=Pacific/Honolulu:20280614T183000
DTEND;TZID=Pacific/Honolulu:20280614T200000
DTSTAMP:20260423T032421
CREATED:20230302T014314Z
LAST-MODIFIED:20260407T011312Z
UID:10001941-1844620200-1844625600@www.oahuaa.org
SUMMARY:Oahu Intergroup Business Meeting
DESCRIPTION:
URL:https://www.oahuaa.org/event-calendar/oahu-intergroup-business-meeting-2/2028-06-14/
LOCATION:Susannah Wesley Community Center\, 1117 Kaili St #3432\, Honolulu\, HI\, 96819\, United States
ATTACH;FMTTYPE=image/jpeg:https://www.oahuaa.org/wp-content/uploads/OIGBusinessMeeting.jpg
END:VEVENT
BEGIN:VEVENT
DTSTART;TZID=Pacific/Honolulu:20280712T183000
DTEND;TZID=Pacific/Honolulu:20280712T200000
DTSTAMP:20260423T032421
CREATED:20230302T014314Z
LAST-MODIFIED:20260407T011312Z
UID:10001942-1847039400-1847044800@www.oahuaa.org
SUMMARY:Oahu Intergroup Business Meeting
DESCRIPTION:
URL:https://www.oahuaa.org/event-calendar/oahu-intergroup-business-meeting-2/2028-07-12/
LOCATION:Susannah Wesley Community Center\, 1117 Kaili St #3432\, Honolulu\, HI\, 96819\, United States
ATTACH;FMTTYPE=image/jpeg:https://www.oahuaa.org/wp-content/uploads/OIGBusinessMeeting.jpg
END:VEVENT
BEGIN:VEVENT
DTSTART;TZID=Pacific/Honolulu:20280809T183000
DTEND;TZID=Pacific/Honolulu:20280809T200000
DTSTAMP:20260423T032421
CREATED:20230302T014314Z
LAST-MODIFIED:20260407T011312Z
UID:10001943-1849458600-1849464000@www.oahuaa.org
SUMMARY:Oahu Intergroup Business Meeting
DESCRIPTION:
URL:https://www.oahuaa.org/event-calendar/oahu-intergroup-business-meeting-2/2028-08-09/
LOCATION:Susannah Wesley Community Center\, 1117 Kaili St #3432\, Honolulu\, HI\, 96819\, United States
ATTACH;FMTTYPE=image/jpeg:https://www.oahuaa.org/wp-content/uploads/OIGBusinessMeeting.jpg
END:VEVENT
BEGIN:VEVENT
DTSTART;TZID=Pacific/Honolulu:20280913T183000
DTEND;TZID=Pacific/Honolulu:20280913T200000
DTSTAMP:20260423T032421
CREATED:20230302T014314Z
LAST-MODIFIED:20260407T011312Z
UID:10001944-1852482600-1852488000@www.oahuaa.org
SUMMARY:Oahu Intergroup Business Meeting
DESCRIPTION:
URL:https://www.oahuaa.org/event-calendar/oahu-intergroup-business-meeting-2/2028-09-13/
LOCATION:Susannah Wesley Community Center\, 1117 Kaili St #3432\, Honolulu\, HI\, 96819\, United States
ATTACH;FMTTYPE=image/jpeg:https://www.oahuaa.org/wp-content/uploads/OIGBusinessMeeting.jpg
END:VEVENT
BEGIN:VEVENT
DTSTART;TZID=Pacific/Honolulu:20281011T183000
DTEND;TZID=Pacific/Honolulu:20281011T200000
DTSTAMP:20260423T032421
CREATED:20230302T014314Z
LAST-MODIFIED:20260407T011312Z
UID:10001945-1854901800-1854907200@www.oahuaa.org
SUMMARY:Oahu Intergroup Business Meeting
DESCRIPTION:
URL:https://www.oahuaa.org/event-calendar/oahu-intergroup-business-meeting-2/2028-10-11/
LOCATION:Susannah Wesley Community Center\, 1117 Kaili St #3432\, Honolulu\, HI\, 96819\, United States
ATTACH;FMTTYPE=image/jpeg:https://www.oahuaa.org/wp-content/uploads/OIGBusinessMeeting.jpg
END:VEVENT
END:VCALENDAR