BEGIN:VCALENDAR
VERSION:2.0
PRODID:-//Alcoholics Anonymous on O&#039;ahu - ECPv6.15.20//NONSGML v1.0//EN
CALSCALE:GREGORIAN
METHOD:PUBLISH
X-WR-CALNAME:Alcoholics Anonymous on O&#039;ahu
X-ORIGINAL-URL:https://www.oahuaa.org
X-WR-CALDESC:Events for Alcoholics Anonymous on O&#039;ahu
REFRESH-INTERVAL;VALUE=DURATION:PT1H
X-Robots-Tag:noindex
X-PUBLISHED-TTL:PT1H
BEGIN:VTIMEZONE
TZID:Pacific/Honolulu
BEGIN:STANDARD
TZOFFSETFROM:-1000
TZOFFSETTO:-1000
TZNAME:HST
DTSTART:20290101T000000
END:STANDARD
END:VTIMEZONE
BEGIN:VEVENT
DTSTART;TZID=Pacific/Honolulu:20300710T183000
DTEND;TZID=Pacific/Honolulu:20300710T200000
DTSTAMP:20260423T062138
CREATED:20230302T014314Z
LAST-MODIFIED:20260407T011312Z
UID:10002117-1909938600-1909944000@www.oahuaa.org
SUMMARY:Oahu Intergroup Business Meeting
DESCRIPTION:
URL:https://www.oahuaa.org/event-calendar/oahu-intergroup-business-meeting-2/2030-07-10/
LOCATION:Susannah Wesley Community Center\, 1117 Kaili St #3432\, Honolulu\, HI\, 96819\, United States
ATTACH;FMTTYPE=image/jpeg:https://www.oahuaa.org/wp-content/uploads/OIGBusinessMeeting.jpg
END:VEVENT
BEGIN:VEVENT
DTSTART;TZID=Pacific/Honolulu:20300814T183000
DTEND;TZID=Pacific/Honolulu:20300814T200000
DTSTAMP:20260423T062138
CREATED:20230302T014314Z
LAST-MODIFIED:20260407T011312Z
UID:10002118-1912962600-1912968000@www.oahuaa.org
SUMMARY:Oahu Intergroup Business Meeting
DESCRIPTION:
URL:https://www.oahuaa.org/event-calendar/oahu-intergroup-business-meeting-2/2030-08-14/
LOCATION:Susannah Wesley Community Center\, 1117 Kaili St #3432\, Honolulu\, HI\, 96819\, United States
ATTACH;FMTTYPE=image/jpeg:https://www.oahuaa.org/wp-content/uploads/OIGBusinessMeeting.jpg
END:VEVENT
BEGIN:VEVENT
DTSTART;TZID=Pacific/Honolulu:20300911T183000
DTEND;TZID=Pacific/Honolulu:20300911T200000
DTSTAMP:20260423T062138
CREATED:20230302T014314Z
LAST-MODIFIED:20260407T011312Z
UID:10002119-1915381800-1915387200@www.oahuaa.org
SUMMARY:Oahu Intergroup Business Meeting
DESCRIPTION:
URL:https://www.oahuaa.org/event-calendar/oahu-intergroup-business-meeting-2/2030-09-11/
LOCATION:Susannah Wesley Community Center\, 1117 Kaili St #3432\, Honolulu\, HI\, 96819\, United States
ATTACH;FMTTYPE=image/jpeg:https://www.oahuaa.org/wp-content/uploads/OIGBusinessMeeting.jpg
END:VEVENT
BEGIN:VEVENT
DTSTART;TZID=Pacific/Honolulu:20301009T183000
DTEND;TZID=Pacific/Honolulu:20301009T200000
DTSTAMP:20260423T062138
CREATED:20230302T014314Z
LAST-MODIFIED:20260407T011312Z
UID:10002120-1917801000-1917806400@www.oahuaa.org
SUMMARY:Oahu Intergroup Business Meeting
DESCRIPTION:
URL:https://www.oahuaa.org/event-calendar/oahu-intergroup-business-meeting-2/2030-10-09/
LOCATION:Susannah Wesley Community Center\, 1117 Kaili St #3432\, Honolulu\, HI\, 96819\, United States
ATTACH;FMTTYPE=image/jpeg:https://www.oahuaa.org/wp-content/uploads/OIGBusinessMeeting.jpg
END:VEVENT
BEGIN:VEVENT
DTSTART;TZID=Pacific/Honolulu:20301113T183000
DTEND;TZID=Pacific/Honolulu:20301113T200000
DTSTAMP:20260423T062138
CREATED:20230302T014314Z
LAST-MODIFIED:20260407T011312Z
UID:10002121-1920825000-1920830400@www.oahuaa.org
SUMMARY:Oahu Intergroup Business Meeting
DESCRIPTION:
URL:https://www.oahuaa.org/event-calendar/oahu-intergroup-business-meeting-2/2030-11-13/
LOCATION:Susannah Wesley Community Center\, 1117 Kaili St #3432\, Honolulu\, HI\, 96819\, United States
ATTACH;FMTTYPE=image/jpeg:https://www.oahuaa.org/wp-content/uploads/OIGBusinessMeeting.jpg
END:VEVENT
BEGIN:VEVENT
DTSTART;TZID=Pacific/Honolulu:20301211T183000
DTEND;TZID=Pacific/Honolulu:20301211T200000
DTSTAMP:20260423T062138
CREATED:20230302T014314Z
LAST-MODIFIED:20260407T011312Z
UID:10002122-1923244200-1923249600@www.oahuaa.org
SUMMARY:Oahu Intergroup Business Meeting
DESCRIPTION:
URL:https://www.oahuaa.org/event-calendar/oahu-intergroup-business-meeting-2/2030-12-11/
LOCATION:Susannah Wesley Community Center\, 1117 Kaili St #3432\, Honolulu\, HI\, 96819\, United States
ATTACH;FMTTYPE=image/jpeg:https://www.oahuaa.org/wp-content/uploads/OIGBusinessMeeting.jpg
END:VEVENT
BEGIN:VEVENT
DTSTART;TZID=Pacific/Honolulu:20310108T183000
DTEND;TZID=Pacific/Honolulu:20310108T200000
DTSTAMP:20260423T062138
CREATED:20230302T014314Z
LAST-MODIFIED:20260407T011312Z
UID:10002123-1925663400-1925668800@www.oahuaa.org
SUMMARY:Oahu Intergroup Business Meeting
DESCRIPTION:
URL:https://www.oahuaa.org/event-calendar/oahu-intergroup-business-meeting-2/2031-01-08/
LOCATION:Susannah Wesley Community Center\, 1117 Kaili St #3432\, Honolulu\, HI\, 96819\, United States
ATTACH;FMTTYPE=image/jpeg:https://www.oahuaa.org/wp-content/uploads/OIGBusinessMeeting.jpg
END:VEVENT
BEGIN:VEVENT
DTSTART;TZID=Pacific/Honolulu:20310212T183000
DTEND;TZID=Pacific/Honolulu:20310212T200000
DTSTAMP:20260423T062138
CREATED:20230302T014314Z
LAST-MODIFIED:20260407T011312Z
UID:10002124-1928687400-1928692800@www.oahuaa.org
SUMMARY:Oahu Intergroup Business Meeting
DESCRIPTION:
URL:https://www.oahuaa.org/event-calendar/oahu-intergroup-business-meeting-2/2031-02-12/
LOCATION:Susannah Wesley Community Center\, 1117 Kaili St #3432\, Honolulu\, HI\, 96819\, United States
ATTACH;FMTTYPE=image/jpeg:https://www.oahuaa.org/wp-content/uploads/OIGBusinessMeeting.jpg
END:VEVENT
BEGIN:VEVENT
DTSTART;TZID=Pacific/Honolulu:20310312T183000
DTEND;TZID=Pacific/Honolulu:20310312T200000
DTSTAMP:20260423T062138
CREATED:20230302T014314Z
LAST-MODIFIED:20260407T011312Z
UID:10002125-1931106600-1931112000@www.oahuaa.org
SUMMARY:Oahu Intergroup Business Meeting
DESCRIPTION:
URL:https://www.oahuaa.org/event-calendar/oahu-intergroup-business-meeting-2/2031-03-12/
LOCATION:Susannah Wesley Community Center\, 1117 Kaili St #3432\, Honolulu\, HI\, 96819\, United States
ATTACH;FMTTYPE=image/jpeg:https://www.oahuaa.org/wp-content/uploads/OIGBusinessMeeting.jpg
END:VEVENT
END:VCALENDAR